BEGIN:VCALENDAR
VERSION:2.0
PRODID:-//Common Ground Alaska - ECPv6.15.20//NONSGML v1.0//EN
CALSCALE:GREGORIAN
METHOD:PUBLISH
X-ORIGINAL-URL:https://commongroundalaska.com
X-WR-CALDESC:Events for Common Ground Alaska
REFRESH-INTERVAL;VALUE=DURATION:PT1H
X-Robots-Tag:noindex
X-PUBLISHED-TTL:PT1H
BEGIN:VTIMEZONE
TZID:America/Anchorage
BEGIN:DAYLIGHT
TZOFFSETFROM:-0900
TZOFFSETTO:-0800
TZNAME:AKDT
DTSTART:20250309T110000
END:DAYLIGHT
BEGIN:STANDARD
TZOFFSETFROM:-0800
TZOFFSETTO:-0900
TZNAME:AKST
DTSTART:20251102T100000
END:STANDARD
BEGIN:DAYLIGHT
TZOFFSETFROM:-0900
TZOFFSETTO:-0800
TZNAME:AKDT
DTSTART:20260308T110000
END:DAYLIGHT
BEGIN:STANDARD
TZOFFSETFROM:-0800
TZOFFSETTO:-0900
TZNAME:AKST
DTSTART:20261101T100000
END:STANDARD
BEGIN:DAYLIGHT
TZOFFSETFROM:-0900
TZOFFSETTO:-0800
TZNAME:AKDT
DTSTART:20270314T110000
END:DAYLIGHT
BEGIN:STANDARD
TZOFFSETFROM:-0800
TZOFFSETTO:-0900
TZNAME:AKST
DTSTART:20271107T100000
END:STANDARD
END:VTIMEZONE
BEGIN:VEVENT
DTSTART;TZID=America/Anchorage:20260522T000000
DTEND;TZID=America/Anchorage:20260525T235959
DTSTAMP:20260420T024940
CREATED:20250708T201149Z
LAST-MODIFIED:20260219T062054Z
UID:115350-1779408000-1779753599@commongroundalaska.com
SUMMARY:2026 SPRING ALASKA HOMESTEAD EXPO
DESCRIPTION:2026 SPRING ALASKA HOMESTEAD EXPO\n\nTHE 3rd ANNUAL ALASKA HOMESTEAD EXPO & MARKETPLACE\nMark your calendars and grab your tickets early for the best pricing!\n\n\n\nWe’re doing Memorial Weekend up BIG at the 2026 Alaska Homestead Expo & Marketplace by expanding the Expo to FOUR full days! There’s something for everyone from shopping to classes\, demonstrations\, plenty of social time\, and connecting with likeminded Alaskans. \n\nFind the schedule of events & ticket details here: https://commongroundalaska.com/alaska-homestead-expo/
URL:https://commongroundalaska.com/event/2026-spring-alaska-homestead-expo/
LOCATION:Big Lake Lions Club\, 2942 S Lions Ct\, Big Lake\, AK\, 99652\, United States
ATTACH;FMTTYPE=image/png:https://commongroundalaska.com/wp-content/uploads/2025/07/Speaker-Joel-Salatin-2.png
ORGANIZER;CN="Tandy Hogate of Common Ground Alaska":MAILTO:tandy@commongroundalaska.com
END:VEVENT
END:VCALENDAR